BEGIN:VCALENDAR
VERSION:2.0
PRODID:-//wp-events-plugin.com//7.2.3.1//EN
BEGIN:VEVENT
UID:11@reunionchurch.org
DTSTART;TZID=America/Chicago:20230521T083000
DTEND;TZID=America/Chicago:20230521T100000
DTSTAMP:20230410T223749Z
URL:https://reunionchurch.org/events/basic-training-2023-05-21/
SUMMARY:Basic Training
DESCRIPTION:Learn about your faith and the fundamentals of Christianity. Fo
 r more info or to sign-up for this 8- week course\, see Jim McDaniel in th
 e lobby today.
ATTACH;FMTTYPE=image/jpeg:https://reunionchurch.org/wp-content/uploads/202
 3/04/Bible-Study-scaled.jpg
CATEGORIES:Christian Learning
END:VEVENT
BEGIN:VTIMEZONE
TZID:America/Chicago
X-LIC-LOCATION:America/Chicago
BEGIN:DAYLIGHT
DTSTART:20230312T030000
TZOFFSETFROM:-0600
TZOFFSETTO:-0500
TZNAME:CDT
END:DAYLIGHT
END:VTIMEZONE
END:VCALENDAR